BEGIN:VCALENDAR
VERSION:2.0
PRODID:-//ChamberMaster//Event Calendar 2.0//EN
METHOD:PUBLISH
X-PUBLISHED-TTL:P1H
REFRESH-INTERVAL:P1H
CALSCALE:GREGORIAN
BEGIN:VTIMEZONE
TZID:America/Chicago
BEGIN:DAYLIGHT
RRULE:FREQ=YEARLY;BYMONTH=3;BYDAY=2SU
DTSTART:20070101T000000
TZOFFSETFROM:-0600
TZOFFSETTO:-0500
TZNAME:Central Daylight Time
END:DAYLIGHT
BEGIN:STANDARD
RRULE:FREQ=YEARLY;BYMONTH=11;BYDAY=1SU
DTSTART:20070101T000000
TZOFFSETFROM:-0500
TZOFFSETTO:-0600
TZNAME:Central Standard Time
END:STANDARD
END:VTIMEZONE
BEGIN:VEVENT
DTSTART;TZID=America/Chicago:20260910T000000
DTEND;TZID=America/Chicago:20260912T000000
X-MICROSOFT-CDO-ALLDAYEVENT:FALSE
SUMMARY:Silent Sky
DESCRIPTION:The true story of 19th century astronomer Henrietta Leavitt explores a woman's place in society during a time of immense scientific and heart-bound discoveries. With music and math bursting forth onstage. Henrietta and her female peers change the way we understand both the heavens and Earth.
X-ALT-DESC;FMTTYPE=text/html:<!DOCTYPE html><html><head><title></title></head><body aria-disabled="false"><p>The true story of 19th century astronomer Henrietta Leavitt explores a woman&#39\;s place in society during a time of immense scientific and heart-bound discoveries. With music and math bursting forth onstage. Henrietta and her female peers change the way we understand both the heavens and Earth.</p></body></html>
LOCATION:830 E. High St.\, Suite. D Jefferson City MO 65101
UID:e.3303.1442126
SEQUENCE:3
DTSTAMP:20260421T095649Z
URL:https://business.jcchamber.org/calendar/Details/silent-sky-1707957?sourceTypeId=Hub
END:VEVENT
END:VCALENDAR
